BEGIN:VCALENDAR
VERSION:2.0
PRODID:-//Ahhtherapy - ECPv6.15.20//NONSGML v1.0//EN
CALSCALE:GREGORIAN
METHOD:PUBLISH
X-ORIGINAL-URL:https://ahhtherapy.com
X-WR-CALDESC:Events for Ahhtherapy
REFRESH-INTERVAL;VALUE=DURATION:PT1H
X-Robots-Tag:noindex
X-PUBLISHED-TTL:PT1H
BEGIN:VTIMEZONE
TZID:America/New_York
BEGIN:DAYLIGHT
TZOFFSETFROM:-0500
TZOFFSETTO:-0400
TZNAME:EDT
DTSTART:20230312T070000
END:DAYLIGHT
BEGIN:STANDARD
TZOFFSETFROM:-0400
TZOFFSETTO:-0500
TZNAME:EST
DTSTART:20231105T060000
END:STANDARD
BEGIN:DAYLIGHT
TZOFFSETFROM:-0500
TZOFFSETTO:-0400
TZNAME:EDT
DTSTART:20240310T070000
END:DAYLIGHT
BEGIN:STANDARD
TZOFFSETFROM:-0400
TZOFFSETTO:-0500
TZNAME:EST
DTSTART:20241103T060000
END:STANDARD
BEGIN:DAYLIGHT
TZOFFSETFROM:-0500
TZOFFSETTO:-0400
TZNAME:EDT
DTSTART:20250309T070000
END:DAYLIGHT
BEGIN:STANDARD
TZOFFSETFROM:-0400
TZOFFSETTO:-0500
TZNAME:EST
DTSTART:20251102T060000
END:STANDARD
END:VTIMEZONE
BEGIN:VTIMEZONE
TZID:America/New_York
BEGIN:DAYLIGHT
TZOFFSETFROM:-0500
TZOFFSETTO:-0400
TZNAME:EDT
DTSTART:20230312T070000
END:DAYLIGHT
BEGIN:STANDARD
TZOFFSETFROM:-0400
TZOFFSETTO:-0500
TZNAME:EST
DTSTART:20231105T060000
END:STANDARD
BEGIN:DAYLIGHT
TZOFFSETFROM:-0500
TZOFFSETTO:-0400
TZNAME:EDT
DTSTART:20240310T070000
END:DAYLIGHT
BEGIN:STANDARD
TZOFFSETFROM:-0400
TZOFFSETTO:-0500
TZNAME:EST
DTSTART:20241103T060000
END:STANDARD
BEGIN:DAYLIGHT
TZOFFSETFROM:-0500
TZOFFSETTO:-0400
TZNAME:EDT
DTSTART:20250309T070000
END:DAYLIGHT
BEGIN:STANDARD
TZOFFSETFROM:-0400
TZOFFSETTO:-0500
TZNAME:EST
DTSTART:20251102T060000
END:STANDARD
END:VTIMEZONE
BEGIN:VEVENT
DTSTART;TZID=America/New_York:20240520T173000
DTEND;TZID=America/New_York:20240520T180000
DTSTAMP:20260423T124125
CREATED:20240520T191934Z
LAST-MODIFIED:20240520T191934Z
UID:6132-1716226200-1716228000@ahhtherapy.com
SUMMARY:Virtual Meet And Greet
DESCRIPTION:Testing the plain ol’ events calendar entries.
URL:https://ahhtherapy.com/event/virtual-meet-and-greet/
CATEGORIES:Virtual Events
ORGANIZER;CN="1 Main Stret":MAILTO:any@any.com
END:VEVENT
BEGIN:VEVENT
DTSTART;TZID=America/New_York:20240517T183000
DTEND;TZID=America/New_York:20240517T203000
DTSTAMP:20260423T124125
CREATED:20240416T195624Z
LAST-MODIFIED:20240416T195705Z
UID:6115-1715970600-1715977800@ahhtherapy.com
SUMMARY:Intuition Workshop III: Moon Magic
DESCRIPTION:
URL:https://ahhtherapy.com/event/intuition-workshop-iii-moon-magic-2/
CATEGORIES:In Person Events
END:VEVENT
BEGIN:VEVENT
DTSTART;TZID=America/New_York:20240423T183000
DTEND;TZID=America/New_York:20240423T193000
DTSTAMP:20260423T124125
CREATED:20240416T174650Z
LAST-MODIFIED:20240418T140017Z
UID:6096-1713897000-1713900600@ahhtherapy.com
SUMMARY:Full Moon Circle: Healing and Resetting Under the Pink Moon
DESCRIPTION:Come join us for a transformative spiritual gathering\, where we unite under the radiant glow of the full moon to celebrate our blessings and share our gratitude. This sacred healing circle is dedicated to letting go of burdens and finding renewal. Together\, we will channel positive energy to support one another and extend healing vibrations to our cherished ones. \nIn this celestial communion\, we delve into cosmic mysteries\, embracing the profound interconnectedness of the universe. Through meditation\, we journey inward\, unlocking the depths of our souls and releasing what no longer serves us. The release ceremony becomes a powerful act of liberation\, allowing us to shed old patterns and embrace new beginnings. \nAs we gather in this harmonious space\, we tap into the collective wisdom and compassion of the group\, fostering a sense of unity and empowerment. Each individual’s presence adds to the collective energy\, creating a synergy that amplifies our intentions and aspirations. \nTogether\, under the luminous embrace of the full moon\, we embark on a journey of self-discovery\, healing\, and spiritual growth. Join us in this sacred circle as we manifest our dreams\, cultivate gratitude\, and embrace the transformative power of love and connection. \n\n← Back Thank you for your response. ✨\n\n\n					\n						\n							\n							\n						\n						\n						\n						\n						\n							\n								\n									\n										\n										\n									\n									\n										\n										\n									\n								\n							\n						\n						\n							\n								\n									\n									\n										\n									\n									\n									\n								\n							\n						\n					\n				\n\n\n\nName(required)\n\n \n			\n				\n					\n						\n						\n						\n					\n				\n				\n			 \n	\n\n\nEmail(required)\n\n \n			\n				\n					\n						\n						\n						\n					\n				\n				\n			 \n	\n\n\nWebsite\n\n \n			\n				\n					\n						\n						\n						\n					\n				\n				\n			 \n	\n\n\nMessage\n\n \n			\n				\n					\n						\n						\n						\n					\n				\n				\n			\n	\n	\n\n				\n					\n				\n						Submit
URL:https://ahhtherapy.com/event/full-moon-circle-healing-and-resetting-under-the-pink-moon/
CATEGORIES:Virtual Events
END:VEVENT
END:VCALENDAR